Workbook

Sheet Instructions
A1: 2027 Business Budget Template
A2: Provided by CW Business Advisory | cwbusinessadvisory.com
A4: How to use this template
A5: 1. Go to the Assumptions tab and replace the sample numbers with your own. Every input cell is in blue text; key inputs are also highlighted yellow.
A6: 2. Pick a scenario (Base, Downside or Upside) in the yellow cell at the top of Assumptions. The whole budget and cash forecast update automatically.
A7: 3. Review the Budget tab (monthly P&L) and the Cash Flow tab (monthly cash forecast). These are all formulas, so you don't need to edit them.
A8: 4. Fill in planned capital purchases, owner distributions and estimated tax payments directly on the Cash Flow tab (blue rows).
A9: 5. Each month, enter your actual results on the Actuals tab, then use Budget vs Actual to compare.
A11: Color legend
A12: Blue text = input you can change
A13: Black text = formula (don't edit)
A14: Green text = pulls from another tab
... A22: Book a free consultation: https://cwbusinessadvisory.com/book-a-consultation/

Sheet Assumptions
A1: Assumptions
A2: Edit the blue cells. Sample data shown for a fictional professional services firm.
A4: Company name | B4: Sample Company LLC
A5: Budget year | B5: 2027
A6: Active scenario | B6: Base
A8: Scenario | B8: New customer adj. | C8: Price adj. | D8: Direct cost adj.
A9: Base | B9: 0 | C9: 0 | D9: 0 | F9: Downside and upside adjust new customers, pricing and direct costs vs. base. Edit to fit your business.
A10: Downside | B10: -0.3 | C10: -0.05 | D10: 0.05
A11: Upside | B11: 0.2 | C11: 0.03 | D11: 0
A12: Selected | B12: =INDEX(B9:B11,MATCH($B$6,$A$9:$A$11,0)) -> 0 | C12: =INDEX(C9:C11,MATCH($B$6,$A$9:$A$11,0)) -> 0 | D12: =INDEX(D9:D11,MATCH($B$6,$A$9:$A$11,0)) -> 0
A14: Revenue stream | B14: Starting customers (Jan 1) | C14: New customers / month | D14: Monthly churn % | E14: Avg. monthly price ($) | F14: Direct cost % of revenue
A15: Monthly accounting clients | B15: 40 | C15: 2 | D15: 0.02 | E15: 2500 | F15: 0.25
A16: Advisory projects | B16: 8 | C16: 1 | D16: 0.15 | E16: 4500 | F16: 0.25
A17: Revenue stream 3 | B17: 0 | C17: 0 | D17: 0 | E17: 0 | F17: 0
A20: Role | B20: Annual salary ($) | C20: Start month (1-12) | D20: Headcount
A21: Owner / CEO | B21: 180000 | C21: 1 | D21: 1
A22: Senior accountant | B22: 95000 | C22: 1 | D22: 2
A23: Staff accountant | B23: 68000 | C23: 1 | D23: 4
A24: Staff accountant (new hire) | B24: 68000 | C24: 4 | D24: 1
A25: Operations manager | B25: 85000 | C25: 7 | D25: 1
A26: Role 6 | B26: 0 | C26: 1 | D26: 0
A27: Role 7 | B27: 0 | C27: 1 | D27: 0
A28: Role 8 | B28: 0 | C28: 1 | D28: 0
A29: Payroll taxes and benefits (% of salary) | B29: 0.2
A31: Operating expense | B31: Monthly amount ($)
A32: Rent and utilities | B32: 6500
A33: Software and subscriptions | B33: 3200
A34: Insurance | B34: 1500
A35: Marketing and advertising | B35: 4000
A36: Professional fees (legal, tax) | B36: 2000
A37: Travel and meals | B37: 1200
A38: Training and development | B38: 800
A39: Other | B39: 1000
A41: Debt and cash | B41: Value
A42: Opening cash balance (Jan 1) | B42: 250000
A43: Opening accounts receivable (Jan 1) | B43: 120000
A44: % of revenue collected in month billed | B44: 0.6 | C44: The rest is collected the following month.
A45: Debt balance (Jan 1) | B45: 200000
A46: Annual interest rate on debt | B46: 0.085 | C46: Stress-test: try 1-2 points higher for 2027.
A47: Monthly principal payment | B47: 4000
...

Sheet Budget
A1: Monthly Budget (P&L)
A2: All formulas. Change inputs on the Assumptions tab.
A3: ="Scenario: "&Assumptions!B6&" | "&Assumptions!B4&" | FY"&Assumptions!B5 -> Scenario: Base | Sample Company LLC | FY2027
A5: ($) | B5: Jan | C5: Feb | D5: Mar | E5: Apr | F5: May | G5: Jun | H5: Jul | I5: Aug | J5: Sep | K5: Oct | L5: Nov | M5: Dec | N5: Total
A6: Customers (end of month)
A7: =Assumptions!A15 -> Monthly accounting clients | B7: =Assumptions!$B$15*(1-Assumptions!$D$15)+Assumptions!$C$15*(1+Assumptions!$B$12) -> 41.2 | C7: =B7*(1-Assumptions!$D$15)+Assumptions!$C$15*(1+Assumptions!$B$12) -> 42.376 | D7: =C7*(1-Assumptions!$D$15)+Assumptions!$C$15*(1+Assumptions!$B$12) -> 43.52848 | E7: =D7*(1-Assumptions!$D$15)+Assumptions!$C$15*(1+Assumptions!$B$12) -> 44.65791 | F7: =E7*(1-Assumptions!$D$15)+Assumptions!$C$15*(1+Assumptions!$B$12) -> 45.764752 | G7: =F7*(1-Assumptions!$D$15)+Assumptions!$C$15*(1+Assumptions!$B$12) -> 46.849457 | H7: =G7*(1-Assumptions!$D$15)+Assumptions!$C$15*(1+Assumptions!$B$12) -> 47.912468 | I7: =H7*(1-Assumptions!$D$15)+Assumptions!$C$15*(1+Assumptions!$B$12) -> 48.954219 | J7: =I7*(1-Assumptions!$D$15)+Assumptions!$C$15*(1+Assumptions!$B$12) -> 49.975134 | ... M7: =L7*(1-Assumptions!$D$15)+Assumptions!$C$15*(1+Assumptions!$B$12) -> 52.916997
A8: =Assumptions!A16 -> Advisory projects | B8: =Assumptions!$B$16*(1-Assumptions!$D$16)+Assumptions!$C$16*(1+Assumptions!$B$12) -> 7.8 | C8: =B8*(1-Assumptions!$D$16)+Assumptions!$C$16*(1+Assumptions!$B$12) -> 7.63 | D8: =C8*(1-Assumptions!$D$16)+Assumptions!$C$16*(1+Assumptions!$B$12) -> 7.4855 | E8: =D8*(1-Assumptions!$D$16)+Assumptions!$C$16*(1+Assumptions!$B$12) -> 7.362675 | F8: =E8*(1-Assumptions!$D$16)+Assumptions!$C$16*(1+Assumptions!$B$12) -> 7.2582737 | G8: =F8*(1-Assumptions!$D$16)+Assumptions!$C$16*(1+Assumptions!$B$12) -> 7.1695327 | H8: =G8*(1-Assumptions!$D$16)+Assumptions!$C$16*(1+Assumptions!$B$12) -> 7.0941028 | I8: =H8*(1-Assumptions!$D$16)+Assumptions!$C$16*(1+Assumptions!$B$12) -> 7.0299874 | J8: =I8*(1-Assumptions!$D$16)+Assumptions!$C$16*(1+Assumptions!$B$12) -> 6.9754893 | ... M8: =L8*(1-Assumptions!$D$16)+Assumptions!$C$16*(1+Assumptions!$B$12) -> 6.8563223
A9: =Assumptions!A17 -> Revenue stream 3 | B9: =Assumptions!$B$17*(1-Assumptions!$D$17)+Assumptions!$C$17*(1+Assumptions!$B$12) -> 0 | C9: =B9*(1-Assumptions!$D$17)+Assumptions!$C$17*(1+Assumptions!$B$12) -> 0 | D9: =C9*(1-Assumptions!$D$17)+Assumptions!$C$17*(1+Assumptions!$B$12) -> 0 | E9: =D9*(1-Assumptions!$D$17)+Assumptions!$C$17*(1+Assumptions!$B$12) -> 0 | F9: =E9*(1-Assumptions!$D$17)+Assumptions!$C$17*(1+Assumptions!$B$12) -> 0 | G9: =F9*(1-Assumptions!$D$17)+Assumptions!$C$17*(1+Assumptions!$B$12) -> 0 | H9: =G9*(1-Assumptions!$D$17)+Assumptions!$C$17*(1+Assumptions!$B$12) -> 0 | I9: =H9*(1-Assumptions!$D$17)+Assumptions!$C$17*(1+Assumptions!$B$12) -> 0 | J9: =I9*(1-Assumptions!$D$17)+Assumptions!$C$17*(1+Assumptions!$B$12) -> 0 | ... M9: =L9*(1-Assumptions!$D$17)+Assumptions!$C$17*(1+Assumptions!$B$12) -> 0
A11: Revenue
A12: =Assumptions!A15 -> Monthly accounting clients | B12: =B7*Assumptions!$E$15*(1+Assumptions!$C$12) -> 103000 | C12: =C7*Assumptions!$E$15*(1+Assumptions!$C$12) -> 105940 | D12: =D7*Assumptions!$E$15*(1+Assumptions!$C$12) -> 108821.2 | E12: =E7*Assumptions!$E$15*(1+Assumptions!$C$12) -> 111644.78 | F12: =F7*Assumptions!$E$15*(1+Assumptions!$C$12) -> 114411.88 | G12: =G7*Assumptions!$E$15*(1+Assumptions!$C$12) -> 117123.64 | H12: =H7*Assumptions!$E$15*(1+Assumptions!$C$12) -> 119781.17 | I12: =I7*Assumptions!$E$15*(1+Assumptions!$C$12) -> 122385.55 | ... M12: =M7*Assumptions!$E$15*(1+Assumptions!$C$12) -> 132292.49 | N12: =SUM(B12:M12) -> 1417667.9
A13: =Assumptions!A16 -> Advisory projects | B13: =B8*Assumptions!$E$16*(1+Assumptions!$C$12) -> 35100 | C13: =C8*Assumptions!$E$16*(1+Assumptions!$C$12) -> 34335 | D13: =D8*Assumptions!$E$16*(1+Assumptions!$C$12) -> 33684.75 | E13: =E8*Assumptions!$E$16*(1+Assumptions!$C$12) -> 33132.037 | F13: =F8*Assumptions!$E$16*(1+Assumptions!$C$12) -> 32662.232 | G13: =G8*Assumptions!$E$16*(1+Assumptions!$C$12) -> 32262.897 | H13: =H8*Assumptions!$E$16*(1+Assumptions!$C$12) -> 31923.463 | I13: =I8*Assumptions!$E$16*(1+Assumptions!$C$12) -> 31634.943 | ... M13: =M8*Assumptions!$E$16*(1+Assumptions!$C$12) -> 30853.451 | N13: =SUM(B13:M13) -> 389163.78
A14: =Assumptions!A17 -> Revenue stream 3 | B14: =B9*Assumptions!$E$17*(1+Assumptions!$C$12) -> 0 | C14: =C9*Assumptions!$E$17*(1+Assumptions!$C$12) -> 0 | D14: =D9*Assumptions!$E$17*(1+Assumptions!$C$12) -> 0 | E14: =E9*Assumptions!$E$17*(1+Assumptions!$C$12) -> 0 | F14: =F9*Assumptions!$E$17*(1+Assumptions!$C$12) -> 0 | G14: =G9*Assumptions!$E$17*(1+Assumptions!$C$12) -> 0 | H14: =H9*Assumptions!$E$17*(1+Assumptions!$C$12) -> 0 | I14: =I9*Assumptions!$E$17*(1+Assumptions!$C$12) -> 0 | ... M14: =M9*Assumptions!$E$17*(1+Assumptions!$C$12) -> 0 | N14: =SUM(B14:M14) -> 0
A15: Total revenue | B15: =SUM(B12:B14) -> 138100 | C15: =SUM(C12:C14) -> 140275 | D15: =SUM(D12:D14) -> 142505.95 | E15: =SUM(E12:E14) -> 144776.81 | F15: =SUM(F12:F14) -> 147074.11 | G15: =SUM(G12:G14) -> 149386.54 | H15: =SUM(H12:H14) -> 151704.63 | I15: =SUM(I12:I14) -> 154020.49 | ... M15: =SUM(M12:M14) -> 163145.94 | N15: =SUM(B15:M15) -> 1806831.7
A17: Direct costs
A18: =Assumptions!A15 -> Monthly accounting clients | B18: =B12*Assumptions!$F$15*(1+Assumptions!$D$12) -> 25750 | C18: =C12*Assumptions!$F$15*(1+Assumptions!$D$12) -> 26485 | D18: =D12*Assumptions!$F$15*(1+Assumptions!$D$12) -> 27205.3 | E18: =E12*Assumptions!$F$15*(1+Assumptions!$D$12) -> 27911.194 | F18: =F12*Assumptions!$F$15*(1+Assumptions!$D$12) -> 28602.97 | G18: =G12*Assumptions!$F$15*(1+Assumptions!$D$12) -> 29280.911 | H18: =H12*Assumptions!$F$15*(1+Assumptions!$D$12) -> 29945.293 | I18: =I12*Assumptions!$F$15*(1+Assumptions!$D$12) -> 30596.387 | ... M18: =M12*Assumptions!$F$15*(1+Assumptions!$D$12) -> 33073.123 | N18: =SUM(B18:M18) -> 354416.98
A19: =Assumptions!A16 -> Advisory projects | B19: =B13*Assumptions!$F$16*(1+Assumptions!$D$12) -> 8775 | C19: =C13*Assumptions!$F$16*(1+Assumptions!$D$12) -> 8583.75 | D19: =D13*Assumptions!$F$16*(1+Assumptions!$D$12) -> 8421.1875 | E19: =E13*Assumptions!$F$16*(1+Assumptions!$D$12) -> 8283.0094 | F19: =F13*Assumptions!$F$16*(1+Assumptions!$D$12) -> 8165.558 | G19: =G13*Assumptions!$F$16*(1+Assumptions!$D$12) -> 8065.7243 | H19: =H13*Assumptions!$F$16*(1+Assumptions!$D$12) -> 7980.8656 | I19: =I13*Assumptions!$F$16*(1+Assumptions!$D$12) -> 7908.7358 | ... M19: =M13*Assumptions!$F$16*(1+Assumptions!$D$12) -> 7713.3626 | N19: =SUM(B19:M19) -> 97290.945
A20: =Assumptions!A17 -> Revenue stream 3 | B20: =B14*Assumptions!$F$17*(1+Assumptions!$D$12) -> 0 | C20: =C14*Assumptions!$F$17*(1+Assumptions!$D$12) -> 0 | D20: =D14*Assumptions!$F$17*(1+Assumptions!$D$12) -> 0 | E20: =E14*Assumptions!$F$17*(1+Assumptions!$D$12) -> 0 | F20: =F14*Assumptions!$F$17*(1+Assumptions!$D$12) -> 0 | G20: =G14*Assumptions!$F$17*(1+Assumptions!$D$12) -> 0 | H20: =H14*Assumptions!$F$17*(1+Assumptions!$D$12) -> 0 | I20: =I14*Assumptions!$F$17*(1+Assumptions!$D$12) -> 0 | ... M20: =M14*Assumptions!$F$17*(1+Assumptions!$D$12) -> 0 | N20: =SUM(B20:M20) -> 0
A21: Total direct costs | B21: =SUM(B18:B20) -> 34525 | C21: =SUM(C18:C20) -> 35068.75 | D21: =SUM(D18:D20) -> 35626.488 | E21: =SUM(E18:E20) -> 36194.203 | F21: =SUM(F18:F20) -> 36768.528 | G21: =SUM(G18:G20) -> 37346.635 | H21: =SUM(H18:H20) -> 37926.158 | I21: =SUM(I18:I20) -> 38505.122 | ... M21: =SUM(M18:M20) -> 40786.485 | N21: =SUM(B21:M21) -> 451707.92
A23: Gross profit | B23: =B15-B21 -> 103575 | C23: =C15-C21 -> 105206.25 | D23: =D15-D21 -> 106879.46 | E23: =E15-E21 -> 108582.61 | F23: =F15-F21 -> 110305.58 | G23: =G15-G21 -> 112039.9 | H23: =H15-H21 -> 113778.47 | I23: =I15-I21 -> 115515.37 | ... N23: =N15-N21 -> 1355123.8
A24: Gross margin % | B24: =IF(B15=0,0,B23/B15) -> 0.75 | C24: =IF(C15=0,0,C23/C15) -> 0.75 | D24: =IF(D15=0,0,D23/D15) -> 0.75 | E24: =IF(E15=0,0,E23/E15) -> 0.75 | F24: =IF(F15=0,0,F23/F15) -> 0.75 | G24: =IF(G15=0,0,G23/G15) -> 0.75 | H24: =IF(H15=0,0,H23/H15) -> 0.75 | I24: =IF(I15=0,0,I23/I15) -> 0.75 | ... N24: =IF(N15=0,0,N23/N15) -> 0.75
A26: Payroll
A27: =Assumptions!A21 -> Owner / CEO | B27: =IF(1>=Assumptions!$C$21,Assumptions!$B$21/12*Assumptions!$D$21,0) -> 15000 | C27: =IF(2>=Assumptions!$C$21,Assumptions!$B$21/12*Assumptions!$D$21,0) -> 15000 | D27: =IF(3>=Assumptions!$C$21,Assumptions!$B$21/12*Assumptions!$D$21,0) -> 15000 | E27: =IF(4>=Assumptions!$C$21,Assumptions!$B$21/12*Assumptions!$D$21,0) -> 15000 | F27: =IF(5>=Assumptions!$C$21,Assumptions!$B$21/12*Assumptions!$D$21,0) -> 15000 | G27: =IF(6>=Assumptions!$C$21,Assumptions!$B$21/12*Assumptions!$D$21,0) -> 15000 | H27: =IF(7>=Assumptions!$C$21,Assumptions!$B$21/12*Assumptions!$D$21,0) -> 15000 | I27: =IF(8>=Assumptions!$C$21,Assumptions!$B$21/12*Assumptions!$D$21,0) -> 15000 | J27: =IF(9>=Assumptions!$C$21,Assumptions!$B$21/12*Assumptions!$D$21,0) -> 15000 | K27: =IF(10>=Assumptions!$C$21,Assumptions!$B$21/12*Assumptions!$D$21,0) -> 15000 | L27: =IF(11>=Assumptions!$C$21,Assumptions!$B$21/12*Assumptions!$D$21,0) -> 15000 | M27: =IF(12>=Assumptions!$C$21,Assumptions!$B$21/12*Assumptions!$D$21,0) -> 15000 | N27: =SUM(B27:M27) -> 180000
A28: =Assumptions!A22 -> Senior accountant | B28: =IF(1>=Assumptions!$C$22,Assumptions!$B$22/12*Assumptions!$D$22,0) -> 15833.333 | C28: =IF(2>=Assumptions!$C$22,Assumptions!$B$22/12*Assumptions!$D$22,0) -> 15833.333 | D28: =IF(3>=Assumptions!$C$22,Assumptions!$B$22/12*Assumptions!$D$22,0) -> 15833.333 | E28: =IF(4>=Assumptions!$C$22,Assumptions!$B$22/12*Assumptions!$D$22,0) -> 15833.333 | F28: =IF(5>=Assumptions!$C$22,Assumptions!$B$22/12*Assumptions!$D$22,0) -> 15833.333 | G28: =IF(6>=Assumptions!$C$22,Assumptions!$B$22/12*Assumptions!$D$22,0) -> 15833.333 | H28: =IF(7>=Assumptions!$C$22,Assumptions!$B$22/12*Assumptions!$D$22,0) -> 15833.333 | I28: =IF(8>=Assumptions!$C$22,Assumptions!$B$22/12*Assumptions!$D$22,0) -> 15833.333 | J28: =IF(9>=Assumptions!$C$22,Assumptions!$B$22/12*Assumptions!$D$22,0) -> 15833.333 | K28: =IF(10>=Assumptions!$C$22,Assumptions!$B$22/12*Assumptions!$D$22,0) -> 15833.333 | L28: =IF(11>=Assumptions!$C$22,Assumptions!$B$22/12*Assumptions!$D$22,0) -> 15833.333 | M28: =IF(12>=Assumptions!$C$22,Assumptions!$B$22/12*Assumptions!$D$22,0) -> 15833.333 | N28: =SUM(B28:M28) -> 190000
A29: =Assumptions!A23 -> Staff accountant | B29: =IF(1>=Assumptions!$C$23,Assumptions!$B$23/12*Assumptions!$D$23,0) -> 22666.667 | C29: =IF(2>=Assumptions!$C$23,Assumptions!$B$23/12*Assumptions!$D$23,0) -> 22666.667 | D29: =IF(3>=Assumptions!$C$23,Assumptions!$B$23/12*Assumptions!$D$23,0) -> 22666.667 | E29: =IF(4>=Assumptions!$C$23,Assumptions!$B$23/12*Assumptions!$D$23,0) -> 22666.667 | F29: =IF(5>=Assumptions!$C$23,Assumptions!$B$23/12*Assumptions!$D$23,0) -> 22666.667 | G29: =IF(6>=Assumptions!$C$23,Assumptions!$B$23/12*Assumptions!$D$23,0) -> 22666.667 | H29: =IF(7>=Assumptions!$C$23,Assumptions!$B$23/12*Assumptions!$D$23,0) -> 22666.667 | I29: =IF(8>=Assumptions!$C$23,Assumptions!$B$23/12*Assumptions!$D$23,0) -> 22666.667 | J29: =IF(9>=Assumptions!$C$23,Assumptions!$B$23/12*Assumptions!$D$23,0) -> 22666.667 | K29: =IF(10>=Assumptions!$C$23,Assumptions!$B$23/12*Assumptions!$D$23,0) -> 22666.667 | L29: =IF(11>=Assumptions!$C$23,Assumptions!$B$23/12*Assumptions!$D$23,0) -> 22666.667 | M29: =IF(12>=Assumptions!$C$23,Assumptions!$B$23/12*Assumptions!$D$23,0) -> 22666.667 | N29: =SUM(B29:M29) -> 272000
A30: =Assumptions!A24 -> Staff accountant (new hire) | B30: =IF(1>=Assumptions!$C$24,Assumptions!$B$24/12*Assumptions!$D$24,0) -> 0 | C30: =IF(2>=Assumptions!$C$24,Assumptions!$B$24/12*Assumptions!$D$24,0) -> 0 | D30: =IF(3>=Assumptions!$C$24,Assumptions!$B$24/12*Assumptions!$D$24,0) -> 0 | E30: =IF(4>=Assumptions!$C$24,Assumptions!$B$24/12*Assumptions!$D$24,0) -> 5666.6667 | F30: =IF(5>=Assumptions!$C$24,Assumptions!$B$24/12*Assumptions!$D$24,0) -> 5666.6667 | G30: =IF(6>=Assumptions!$C$24,Assumptions!$B$24/12*Assumptions!$D$24,0) -> 5666.6667 | H30: =IF(7>=Assumptions!$C$24,Assumptions!$B$24/12*Assumptions!$D$24,0) -> 5666.6667 | I30: =IF(8>=Assumptions!$C$24,Assumptions!$B$24/12*Assumptions!$D$24,0) -> 5666.6667 | J30: =IF(9>=Assumptions!$C$24,Assumptions!$B$24/12*Assumptions!$D$24,0) -> 5666.6667 | K30: =IF(10>=Assumptions!$C$24,Assumptions!$B$24/12*Assumptions!$D$24,0) -> 5666.6667 | L30: =IF(11>=Assumptions!$C$24,Assumptions!$B$24/12*Assumptions!$D$24,0) -> 5666.6667 | M30: =IF(12>=Assumptions!$C$24,Assumptions!$B$24/12*Assumptions!$D$24,0) -> 5666.6667 | N30: =SUM(B30:M30) -> 51000
A31: =Assumptions!A25 -> Operations manager | B31: =IF(1>=Assumptions!$C$25,Assumptions!$B$25/12*Assumptions!$D$25,0) -> 0 | C31: =IF(2>=Assumptions!$C$25,Assumptions!$B$25/12*Assumptions!$D$25,0) -> 0 | D31: =IF(3>=Assumptions!$C$25,Assumptions!$B$25/12*Assumptions!$D$25,0) -> 0 | E31: =IF(4>=Assumptions!$C$25,Assumptions!$B$25/12*Assumptions!$D$25,0) -> 0 | F31: =IF(5>=Assumptions!$C$25,Assumptions!$B$25/12*Assumptions!$D$25,0) -> 0 | G31: =IF(6>=Assumptions!$C$25,Assumptions!$B$25/12*Assumptions!$D$25,0) -> 0 | H31: =IF(7>=Assumptions!$C$25,Assumptions!$B$25/12*Assumptions!$D$25,0) -> 7083.3333 | I31: =IF(8>=Assumptions!$C$25,Assumptions!$B$25/12*Assumptions!$D$25,0) -> 7083.3333 | J31: =IF(9>=Assumptions!$C$25,Assumptions!$B$25/12*Assumptions!$D$25,0) -> 7083.3333 | K31: =IF(10>=Assumptions!$C$25,Assumptions!$B$25/12*Assumptions!$D$25,0) -> 7083.3333 | L31: =IF(11>=Assumptions!$C$25,Assumptions!$B$25/12*Assumptions!$D$25,0) -> 7083.3333 | M31: =IF(12>=Assumptions!$C$25,Assumptions!$B$25/12*Assumptions!$D$25,0) -> 7083.3333 | N31: =SUM(B31:M31) -> 42500
A32: =Assumptions!A26 -> Role 6 | B32: =IF(1>=Assumptions!$C$26,Assumptions!$B$26/12*Assumptions!$D$26,0) -> 0 | C32: =IF(2>=Assumptions!$C$26,Assumptions!$B$26/12*Assumptions!$D$26,0) -> 0 | D32: =IF(3>=Assumptions!$C$26,Assumptions!$B$26/12*Assumptions!$D$26,0) -> 0 | E32: =IF(4>=Assumptions!$C$26,Assumptions!$B$26/12*Assumptions!$D$26,0) -> 0 | F32: =IF(5>=Assumptions!$C$26,Assumptions!$B$26/12*Assumptions!$D$26,0) -> 0 | G32: =IF(6>=Assumptions!$C$26,Assumptions!$B$26/12*Assumptions!$D$26,0) -> 0 | H32: =IF(7>=Assumptions!$C$26,Assumptions!$B$26/12*Assumptions!$D$26,0) -> 0 | I32: =IF(8>=Assumptions!$C$26,Assumptions!$B$26/12*Assumptions!$D$26,0) -> 0 | J32: =IF(9>=Assumptions!$C$26,Assumptions!$B$26/12*Assumptions!$D$26,0) -> 0 | K32: =IF(10>=Assumptions!$C$26,Assumptions!$B$26/12*Assumptions!$D$26,0) -> 0 | L32: =IF(11>=Assumptions!$C$26,Assumptions!$B$26/12*Assumptions!$D$26,0) -> 0 | M32: =IF(12>=Assumptions!$C$26,Assumptions!$B$26/12*Assumptions!$D$26,0) -> 0 | N32: =SUM(B32:M32) -> 0
A33: =Assumptions!A27 -> Role 7 | B33: =IF(1>=Assumptions!$C$27,Assumptions!$B$27/12*Assumptions!$D$27,0) -> 0 | C33: =IF(2>=Assumptions!$C$27,Assumptions!$B$27/12*Assumptions!$D$27,0) -> 0 | D33: =IF(3>=Assumptions!$C$27,Assumptions!$B$27/12*Assumptions!$D$27,0) -> 0 | E33: =IF(4>=Assumptions!$C$27,Assumptions!$B$27/12*Assumptions!$D$27,0) -> 0 | F33: =IF(5>=Assumptions!$C$27,Assumptions!$B$27/12*Assumptions!$D$27,0) -> 0 | G33: =IF(6>=Assumptions!$C$27,Assumptions!$B$27/12*Assumptions!$D$27,0) -> 0 | H33: =IF(7>=Assumptions!$C$27,Assumptions!$B$27/12*Assumptions!$D$27,0) -> 0 | I33: =IF(8>=Assumptions!$C$27,Assumptions!$B$27/12*Assumptions!$D$27,0) -> 0 | J33: =IF(9>=Assumptions!$C$27,Assumptions!$B$27/12*Assumptions!$D$27,0) -> 0 | K33: =IF(10>=Assumptions!$C$27,Assumptions!$B$27/12*Assumptions!$D$27,0) -> 0 | L33: =IF(11>=Assumptions!$C$27,Assumptions!$B$27/12*Assumptions!$D$27,0) -> 0 | M33: =IF(12>=Assumptions!$C$27,Assumptions!$B$27/12*Assumptions!$D$27,0) -> 0 | N33: =SUM(B33:M33) -> 0
A34: =Assumptions!A28 -> Role 8 | B34: =IF(1>=Assumptions!$C$28,Assumptions!$B$28/12*Assumptions!$D$28,0) -> 0 | C34: =IF(2>=Assumptions!$C$28,Assumptions!$B$28/12*Assumptions!$D$28,0) -> 0 | D34: =IF(3>=Assumptions!$C$28,Assumptions!$B$28/12*Assumptions!$D$28,0) -> 0 | E34: =IF(4>=Assumptions!$C$28,Assumptions!$B$28/12*Assumptions!$D$28,0) -> 0 | F34: =IF(5>=Assumptions!$C$28,Assumptions!$B$28/12*Assumptions!$D$28,0) -> 0 | G34: =IF(6>=Assumptions!$C$28,Assumptions!$B$28/12*Assumptions!$D$28,0) -> 0 | H34: =IF(7>=Assumptions!$C$28,Assumptions!$B$28/12*Assumptions!$D$28,0) -> 0 | I34: =IF(8>=Assumptions!$C$28,Assumptions!$B$28/12*Assumptions!$D$28,0) -> 0 | J34: =IF(9>=Assumptions!$C$28,Assumptions!$B$28/12*Assumptions!$D$28,0) -> 0 | K34: =IF(10>=Assumptions!$C$28,Assumptions!$B$28/12*Assumptions!$D$28,0) -> 0 | L34: =IF(11>=Assumptions!$C$28,Assumptions!$B$28/12*Assumptions!$D$28,0) -> 0 | M34: =IF(12>=Assumptions!$C$28,Assumptions!$B$28/12*Assumptions!$D$28,0) -> 0 | N34: =SUM(B34:M34) -> 0
A35: Payroll taxes and benefits | B35: =SUM(B27:B34)*Assumptions!$B$29 -> 10700 | C35: =SUM(C27:C34)*Assumptions!$B$29 -> 10700 | D35: =SUM(D27:D34)*Assumptions!$B$29 -> 10700 | E35: =SUM(E27:E34)*Assumptions!$B$29 -> 11833.333 | F35: =SUM(F27:F34)*Assumptions!$B$29 -> 11833.333 | G35: =SUM(G27:G34)*Assumptions!$B$29 -> 11833.333 | H35: =SUM(H27:H34)*Assumptions!$B$29 -> 13250 | I35: =SUM(I27:I34)*Assumptions!$B$29 -> 13250 | ... M35: =SUM(M27:M34)*Assumptions!$B$29 -> 13250 | N35: =SUM(B35:M35) -> 147100
A36: Total payroll | B36: =SUM(B27:B35) -> 64200 | C36: =SUM(C27:C35) -> 64200 | D36: =SUM(D27:D35) -> 64200 | E36: =SUM(E27:E35) -> 71000 | F36: =SUM(F27:F35) -> 71000 | G36: =SUM(G27:G35) -> 71000 | H36: =SUM(H27:H35) -> 79500 | I36: =SUM(I27:I35) -> 79500 | ... M36: =SUM(M27:M35) -> 79500 | N36: =SUM(B36:M36) -> 882600
A38: Operating expenses
A39: =Assumptions!A32 -> Rent and utilities | B39: =Assumptions!$B$32 -> 6500 | C39: =Assumptions!$B$32 -> 6500 | D39: =Assumptions!$B$32 -> 6500 | E39: =Assumptions!$B$32 -> 6500 | F39: =Assumptions!$B$32 -> 6500 | G39: =Assumptions!$B$32 -> 6500 | H39: =Assumptions!$B$32 -> 6500 | I39: =Assumptions!$B$32 -> 6500 | ... M39: =Assumptions!$B$32 -> 6500 | N39: =SUM(B39:M39) -> 78000
A40: =Assumptions!A33 -> Software and subscriptions | B40: =Assumptions!$B$33 -> 3200 | C40: =Assumptions!$B$33 -> 3200 | D40: =Assumptions!$B$33 -> 3200 | E40: =Assumptions!$B$33 -> 3200 | F40: =Assumptions!$B$33 -> 3200 | G40: =Assumptions!$B$33 -> 3200 | H40: =Assumptions!$B$33 -> 3200 | I40: =Assumptions!$B$33 -> 3200 | ... M40: =Assumptions!$B$33 -> 3200 | N40: =SUM(B40:M40) -> 38400
A41: =Assumptions!A34 -> Insurance | B41: =Assumptions!$B$34 -> 1500 | C41: =Assumptions!$B$34 -> 1500 | D41: =Assumptions!$B$34 -> 1500 | E41: =Assumptions!$B$34 -> 1500 | F41: =Assumptions!$B$34 -> 1500 | G41: =Assumptions!$B$34 -> 1500 | H41: =Assumptions!$B$34 -> 1500 | I41: =Assumptions!$B$34 -> 1500 | ... M41: =Assumptions!$B$34 -> 1500 | N41: =SUM(B41:M41) -> 18000
A42: =Assumptions!A35 -> Marketing and advertising | B42: =Assumptions!$B$35 -> 4000 | C42: =Assumptions!$B$35 -> 4000 | D42: =Assumptions!$B$35 -> 4000 | E42: =Assumptions!$B$35 -> 4000 | F42: =Assumptions!$B$35 -> 4000 | G42: =Assumptions!$B$35 -> 4000 | H42: =Assumptions!$B$35 -> 4000 | I42: =Assumptions!$B$35 -> 4000 | ... M42: =Assumptions!$B$35 -> 4000 | N42: =SUM(B42:M42) -> 48000
A43: =Assumptions!A36 -> Professional fees (legal, tax) | B43: =Assumptions!$B$36 -> 2000 | C43: =Assumptions!$B$36 -> 2000 | D43: =Assumptions!$B$36 -> 2000 | E43: =Assumptions!$B$36 -> 2000 | F43: =Assumptions!$B$36 -> 2000 | G43: =Assumptions!$B$36 -> 2000 | H43: =Assumptions!$B$36 -> 2000 | I43: =Assumptions!$B$36 -> 2000 | ... M43: =Assumptions!$B$36 -> 2000 | N43: =SUM(B43:M43) -> 24000
A44: =Assumptions!A37 -> Travel and meals | B44: =Assumptions!$B$37 -> 1200 | C44: =Assumptions!$B$37 -> 1200 | D44: =Assumptions!$B$37 -> 1200 | E44: =Assumptions!$B$37 -> 1200 | F44: =Assumptions!$B$37 -> 1200 | G44: =Assumptions!$B$37 -> 1200 | H44: =Assumptions!$B$37 -> 1200 | I44: =Assumptions!$B$37 -> 1200 | ... M44: =Assumptions!$B$37 -> 1200 | N44: =SUM(B44:M44) -> 14400
A45: =Assumptions!A38 -> Training and development | B45: =Assumptions!$B$38 -> 800 | C45: =Assumptions!$B$38 -> 800 | D45: =Assumptions!$B$38 -> 800 | E45: =Assumptions!$B$38 -> 800 | F45: =Assumptions!$B$38 -> 800 | G45: =Assumptions!$B$38 -> 800 | H45: =Assumptions!$B$38 -> 800 | I45: =Assumptions!$B$38 -> 800 | ... M45: =Assumptions!$B$38 -> 800 | N45: =SUM(B45:M45) -> 9600
A46: =Assumptions!A39 -> Other | B46: =Assumptions!$B$39 -> 1000 | C46: =Assumptions!$B$39 -> 1000 | D46: =Assumptions!$B$39 -> 1000 | E46: =Assumptions!$B$39 -> 1000 | F46: =Assumptions!$B$39 -> 1000 | G46: =Assumptions!$B$39 -> 1000 | H46: =Assumptions!$B$39 -> 1000 | I46: =Assumptions!$B$39 -> 1000 | ... M46: =Assumptions!$B$39 -> 1000 | N46: =SUM(B46:M46) -> 12000
...

Sheet Cash Flow
A1: Monthly Cash Flow Forecast
A2: Formulas plus three blue input rows for capex, owner distributions and tax payments.
A3: ="Scenario: "&Assumptions!B6 -> Scenario: Base
A5: ($) | B5: Jan | C5: Feb | D5: Mar | E5: Apr | F5: May | G5: Jun | H5: Jul | I5: Aug | J5: Sep | K5: Oct | L5: Nov | M5: Dec | N5: Total
A6: Beginning cash | B6: =Assumptions!$B$42 -> 250000 | C6: =B22 -> 318518.33 | D6: =C22 -> 323066.25 | E6: =D22 -> 314293.33 | F6: =E22 -> 290435.93 | G6: =F22 -> 293319.26 | H6: =G22 -> 272959.2 | I6: =H22 -> 270863.77 | J6: =I22 -> 270534.46 | ... M6: =L22 -> 245081.58
A7: Cash in
A8: Collections from customers | B8: =Assumptions!$B$43+Budget!B15*Assumptions!$B$44 -> 202860 | C8: =Budget!C15*Assumptions!$B$44+Budget!B15*(1-Assumptions!$B$44) -> 139405 | D8: =Budget!D15*Assumptions!$B$44+Budget!C15*(1-Assumptions!$B$44) -> 141613.57 | E8: =Budget!E15*Assumptions!$B$44+Budget!D15*(1-Assumptions!$B$44) -> 143868.47 | F8: =Budget!F15*Assumptions!$B$44+Budget!E15*(1-Assumptions!$B$44) -> 146155.19 | G8: =Budget!G15*Assumptions!$B$44+Budget!F15*(1-Assumptions!$B$44) -> 148461.57 | H8: =Budget!H15*Assumptions!$B$44+Budget!G15*(1-Assumptions!$B$44) -> 150777.4 | I8: =Budget!I15*Assumptions!$B$44+Budget!H15*(1-Assumptions!$B$44) -> 153094.15 | J8: =Budget!J15*Assumptions!$B$44+Budget!I15*(1-Assumptions!$B$44) -> 155404.72 | ... M8: =Budget!M15*Assumptions!$B$44+Budget!L15*(1-Assumptions!$B$44) -> 162245.31 | N8: =SUM(B8:M8) -> 1861573.3
A10: Cash out
A11: Direct costs | B11: =Budget!B21 -> 34525 | C11: =Budget!C21 -> 35068.75 | D11: =Budget!D21 -> 35626.488 | E11: =Budget!E21 -> 36194.203 | F11: =Budget!F21 -> 36768.528 | G11: =Budget!G21 -> 37346.635 | H11: =Budget!H21 -> 37926.158 | I11: =Budget!I21 -> 38505.122 | ... M11: =Budget!M21 -> 40786.485 | N11: =SUM(B11:M11) -> 451707.92
A12: Payroll | B12: =Budget!B36 -> 64200 | C12: =Budget!C36 -> 64200 | D12: =Budget!D36 -> 64200 | E12: =Budget!E36 -> 71000 | F12: =Budget!F36 -> 71000 | G12: =Budget!G36 -> 71000 | H12: =Budget!H36 -> 79500 | I12: =Budget!I36 -> 79500 | ... M12: =Budget!M36 -> 79500 | N12: =SUM(B12:M12) -> 882600
A13: Operating expenses | B13: =Budget!B47 -> 20200 | C13: =Budget!C47 -> 20200 | D13: =Budget!D47 -> 20200 | E13: =Budget!E47 -> 20200 | F13: =Budget!F47 -> 20200 | G13: =Budget!G47 -> 20200 | H13: =Budget!H47 -> 20200 | I13: =Budget!I47 -> 20200 | ... M13: =Budget!M47 -> 20200 | N13: =SUM(B13:M13) -> 242400
A14: Interest | B14: =Budget!B50 -> 1416.6667 | C14: =Budget!C50 -> 1388.3333 | D14: =Budget!D50 -> 1360 | E14: =Budget!E50 -> 1331.6667 | F14: =Budget!F50 -> 1303.3333 | G14: =Budget!G50 -> 1275 | H14: =Budget!H50 -> 1246.6667 | I14: =Budget!I50 -> 1218.3333 | ... M14: =Budget!M50 -> 1105 | N14: =SUM(B14:M14) -> 15130
A15: Debt principal payments | B15: =B27 -> 4000 | C15: =C27 -> 4000 | D15: =D27 -> 4000 | E15: =E27 -> 4000 | F15: =F27 -> 4000 | G15: =G27 -> 4000 | H15: =H27 -> 4000 | I15: =I27 -> 4000 | ... M15: =M27 -> 4000 | N15: =SUM(B15:M15) -> 48000
A16: Capital purchases | B16: 0 | C16: 0 | D16: 15000 | E16: 0 | F16: 0 | G16: 0 | H16: 0 | I16: 0 | J16: 10000 | K16: 0 | L16: 0 | M16: 0 | N16: =SUM(B16:M16) -> 25000
A17: Owner distributions | B17: 10000 | C17: 10000 | D17: 10000 | E17: 10000 | F17: 10000 | G17: 10000 | H17: 10000 | I17: 10000 | J17: 10000 | K17: 10000 | L17: 10000 | M17: 10000 | N17: =SUM(B17:M17) -> 120000
A18: Estimated tax payments | B18: 0 | C18: 0 | D18: 0 | E18: 25000 | F18: 0 | G18: 25000 | H18: 0 | I18: 0 | J18: 25000 | K18: 0 | L18: 0 | M18: 0 | N18: =SUM(B18:M18) -> 75000
A19: Total cash out | B19: =SUM(B11:B18) -> 134341.67 | C19: =SUM(C11:C18) -> 134857.08 | D19: =SUM(D11:D18) -> 150386.49 | E19: =SUM(E11:E18) -> 167725.87 | F19: =SUM(F11:F18) -> 143271.86 | G19: =SUM(G11:G18) -> 168821.63 | H19: =SUM(H11:H18) -> 152872.82 | I19: =SUM(I11:I18) -> 153423.46 | ... M19: =SUM(M11:M18) -> 155591.49 | N19: =SUM(B19:M19) -> 1859837.9
A21: Net cash flow | B21: =B8-B19 -> 68518.333 | C21: =C8-C19 -> 4547.9167 | D21: =D8-D19 -> -8772.9175 | E21: =E8-E19 -> -23857.402 | F21: =F8-F19 -> 2883.3314 | G21: =G8-G19 -> -20360.066 | H21: =H8-H19 -> -2095.4293 | I21: =I8-I19 -> -329.3089 | ... N21: =N8-N19 -> 1735.398
A22: Ending cash | B22: =B6+B21 -> 318518.33 | C22: =C6+C21 -> 323066.25 | D22: =D6+D21 -> 314293.33 | E22: =E6+E21 -> 290435.93 | F22: =F6+F21 -> 293319.26 | G22: =G6+G21 -> 272959.2 | H22: =H6+H21 -> 270863.77 | I22: =I6+I21 -> 270534.46 | ... M22: =M6+M21 -> 251735.4
A23: Below minimum cash? | B23: =IF(B22<Assumptions!$B$48,"ALERT","OK") -> OK | C23: =IF(C22<Assumptions!$B$48,"ALERT","OK") -> OK | D23: =IF(D22<Assumptions!$B$48,"ALERT","OK") -> OK | E23: =IF(E22<Assumptions!$B$48,"ALERT","OK") -> OK | F23: =IF(F22<Assumptions!$B$48,"ALERT","OK") -> OK | G23: =IF(G22<Assumptions!$B$48,"ALERT","OK") -> OK | H23: =IF(H22<Assumptions!$B$48,"ALERT","OK") -> OK | I23: =IF(I22<Assumptions!$B$48,"ALERT","OK") -> OK | ... M23: =IF(M22<Assumptions!$B$48,"ALERT","OK") -> OK
A25: Debt schedule
A26: Beginning debt balance | B26: =Assumptions!$B$45 -> 200000 | C26: =B28 -> 196000 | D26: =C28 -> 192000 | E26: =D28 -> 188000 | F26: =E28 -> 184000 | G26: =F28 -> 180000 | H26: =G28 -> 176000 | I26: =H28 -> 172000 | J26: =I28 -> 168000 | ... M26: =L28 -> 156000
A27: Principal paid | B27: =MIN(B26,Assumptions!$B$47) -> 4000 | C27: =MIN(C26,Assumptions!$B$47) -> 4000 | D27: =MIN(D26,Assumptions!$B$47) -> 4000 | E27: =MIN(E26,Assumptions!$B$47) -> 4000 | F27: =MIN(F26,Assumptions!$B$47) -> 4000 | G27: =MIN(G26,Assumptions!$B$47) -> 4000 | H27: =MIN(H26,Assumptions!$B$47) -> 4000 | I27: =MIN(I26,Assumptions!$B$47) -> 4000 | ... M27: =MIN(M26,Assumptions!$B$47) -> 4000 | N27: =SUM(B27:M27) -> 48000
A28: Ending debt balance | B28: =B26-B27 -> 196000 | C28: =C26-C27 -> 192000 | D28: =D26-D27 -> 188000 | E28: =E26-E27 -> 184000 | F28: =F26-F27 -> 180000 | G28: =G26-G27 -> 176000 | H28: =H26-H27 -> 172000 | I28: =I26-I27 -> 168000 | ... M28: =M26-M27 -> 152000

Sheet Actuals
A1: Monthly Actuals
A2: Enter actual results from your accounting system each month (blue cells). Gross profit and net income calculate automatically.
A4: ($) | B4: Jan | C4: Feb | D4: Mar | E4: Apr | F4: May | G4: Jun | H4: Jul | I4: Aug | J4: Sep | K4: Oct | L4: Nov | M4: Dec | N4: YTD
A5: Total revenue | B5: 128000 | N5: =SUM(B5:M5) -> 128000
A6: Total direct costs | B6: 33000 | N6: =SUM(B6:M6) -> 33000
A7: Gross profit | B7: =B5-B6 -> 95000 | C7: =C5-C6 -> 0 | D7: =D5-D6 -> 0 | E7: =E5-E6 -> 0 | F7: =F5-F6 -> 0 | G7: =G5-G6 -> 0 | H7: =H5-H6 -> 0 | I7: =I5-I6 -> 0 | ... M7: =M5-M6 -> 0 | N7: =SUM(B7:M7) -> 95000
A8: Total payroll | B8: 66000 | N8: =SUM(B8:M8) -> 66000
A9: Total operating expenses | B9: 21500 | N9: =SUM(B9:M9) -> 21500
A10: Interest expense | B10: 1400 | N10: =SUM(B10:M10) -> 1400
A11: Net income (before taxes) | B11: =B7-B8-B9-B10 -> 6100 | C11: =C7-C8-C9-C10 -> 0 | D11: =D7-D8-D9-D10 -> 0 | E11: =E7-E8-E9-E10 -> 0 | F11: =F7-F8-F9-F10 -> 0 | G11: =G7-G8-G9-G10 -> 0 | H11: =H7-H8-H9-H10 -> 0 | I11: =I7-I8-I9-I10 -> 0 | ... M11: =M7-M8-M9-M10 -> 0 | N11: =SUM(B11:M11) -> 6100
A13: Sample: January actuals are filled in as an example. Replace or clear them.

Sheet Budget vs Actual
A1: Budget vs. Actual
A2: Pick a month. Variances are favorable when positive.
A4: Month | B4: Jan | C4: =MATCH(B4,{"Jan","Feb","Mar","Apr","May","Jun","Jul","Aug","Sep","Oct","Nov","Dec"},0) -> 1
B6: Budget | C6: Actual | D6: Variance $ | E6: Variance % | G6: YTD Budget | H6: YTD Actual | I6: YTD Variance $ | J6: YTD Variance %
A7: Total revenue | B7: =INDEX(Budget!$B$15:$M$15,$C$4) -> 138100 | C7: =INDEX(Actuals!$B$5:$M$5,$C$4) -> 128000 | D7: =C7-B7 -> -10100 | E7: =IF(B7=0,0,D7/ABS(B7)) -> -0.073135409 | G7: =SUMPRODUCT((COLUMN(Budget!$B$15:$M$15)-1<=$C$4)*Budget!$B$15:$M$15) -> 138100 | H7: =SUMPRODUCT((COLUMN(Actuals!$B$5:$M$5)-1<=$C$4)*Actuals!$B$5:$M$5) -> 128000 | I7: =H7-G7 -> -10100 | J7: =IF(G7=0,0,I7/ABS(G7)) -> -0.073135409
A8: Total direct costs | B8: =INDEX(Budget!$B$21:$M$21,$C$4) -> 34525 | C8: =INDEX(Actuals!$B$6:$M$6,$C$4) -> 33000 | D8: =B8-C8 -> 1525 | E8: =IF(B8=0,0,D8/ABS(B8)) -> 0.044170891 | G8: =SUMPRODUCT((COLUMN(Budget!$B$21:$M$21)-1<=$C$4)*Budget!$B$21:$M$21) -> 34525 | H8: =SUMPRODUCT((COLUMN(Actuals!$B$6:$M$6)-1<=$C$4)*Actuals!$B$6:$M$6) -> 33000 | I8: =G8-H8 -> 1525 | J8: =IF(G8=0,0,I8/ABS(G8)) -> 0.044170891
A9: Gross profit | B9: =INDEX(Budget!$B$23:$M$23,$C$4) -> 103575 | C9: =INDEX(Actuals!$B$7:$M$7,$C$4) -> 95000 | D9: =C9-B9 -> -8575 | E9: =IF(B9=0,0,D9/ABS(B9)) -> -0.082790249 | G9: =SUMPRODUCT((COLUMN(Budget!$B$23:$M$23)-1<=$C$4)*Budget!$B$23:$M$23) -> 103575 | H9: =SUMPRODUCT((COLUMN(Actuals!$B$7:$M$7)-1<=$C$4)*Actuals!$B$7:$M$7) -> 95000 | I9: =H9-G9 -> -8575 | J9: =IF(G9=0,0,I9/ABS(G9)) -> -0.082790249
A10: Total payroll | B10: =INDEX(Budget!$B$36:$M$36,$C$4) -> 64200 | C10: =INDEX(Actuals!$B$8:$M$8,$C$4) -> 66000 | D10: =B10-C10 -> -1800 | E10: =IF(B10=0,0,D10/ABS(B10)) -> -0.028037383 | G10: =SUMPRODUCT((COLUMN(Budget!$B$36:$M$36)-1<=$C$4)*Budget!$B$36:$M$36) -> 64200 | H10: =SUMPRODUCT((COLUMN(Actuals!$B$8:$M$8)-1<=$C$4)*Actuals!$B$8:$M$8) -> 66000 | I10: =G10-H10 -> -1800 | J10: =IF(G10=0,0,I10/ABS(G10)) -> -0.028037383
A11: Total operating expenses | B11: =INDEX(Budget!$B$47:$M$47,$C$4) -> 20200 | C11: =INDEX(Actuals!$B$9:$M$9,$C$4) -> 21500 | D11: =B11-C11 -> -1300 | E11: =IF(B11=0,0,D11/ABS(B11)) -> -0.064356436 | G11: =SUMPRODUCT((COLUMN(Budget!$B$47:$M$47)-1<=$C$4)*Budget!$B$47:$M$47) -> 20200 | H11: =SUMPRODUCT((COLUMN(Actuals!$B$9:$M$9)-1<=$C$4)*Actuals!$B$9:$M$9) -> 21500 | I11: =G11-H11 -> -1300 | J11: =IF(G11=0,0,I11/ABS(G11)) -> -0.064356436
A12: Interest expense | B12: =INDEX(Budget!$B$50:$M$50,$C$4) -> 1416.6667 | C12: =INDEX(Actuals!$B$10:$M$10,$C$4) -> 1400 | D12: =B12-C12 -> 16.666667 | E12: =IF(B12=0,0,D12/ABS(B12)) -> 0.011764706 | G12: =SUMPRODUCT((COLUMN(Budget!$B$50:$M$50)-1<=$C$4)*Budget!$B$50:$M$50) -> 1416.6667 | H12: =SUMPRODUCT((COLUMN(Actuals!$B$10:$M$10)-1<=$C$4)*Actuals!$B$10:$M$10) -> 1400 | I12: =G12-H12 -> 16.666667 | J12: =IF(G12=0,0,I12/ABS(G12)) -> 0.011764706
A13: Net income (before taxes) | B13: =INDEX(Budget!$B$51:$M$51,$C$4) -> 17758.333 | C13: =INDEX(Actuals!$B$11:$M$11,$C$4) -> 6100 | D13: =C13-B13 -> -11658.333 | E13: =IF(B13=0,0,D13/ABS(B13)) -> -0.6564993 | G13: =SUMPRODUCT((COLUMN(Budget!$B$51:$M$51)-1<=$C$4)*Budget!$B$51:$M$51) -> 17758.333 | H13: =SUMPRODUCT((COLUMN(Actuals!$B$11:$M$11)-1<=$C$4)*Actuals!$B$11:$M$11) -> 6100 | I13: =H13-G13 -> -11658.333 | J13: =IF(G13=0,0,I13/ABS(G13)) -> -0.6564993
A15: Red = unfavorable. For costs, spending under budget shows as a positive (favorable) variance.
A17: Want help digging into your variances? Book a free consultation: cwbusinessadvisory.com/book-a-consultation
